BEGIN:VCALENDAR
PRODID:georgiansfirst.georgia.gov
VERSION:2.0
CALSCALE:GREGORIAN
BEGIN:VEVENT
UID:12f21f51d77678e7da9226ace6e4f1dd
DTSTAMP:20260424T210207Z
SUMMARY:Gainesville Rotary Club Meeting
URL:https://georgiansfirst.georgia.gov/events/2020-03-02/gainesville-rotary
 -club-meeting
DTSTART;VALUE=DATE:20200302
DTEND;VALUE=DATE:20200303
LOCATION:751 Green Street  Gainesville\, GA 30501 US
X-LIC-LOCATION:America/New_York
X-WR-TIMEZONE:America/New_York
END:VEVENT
BEGIN:VTIMEZONE
TZID:America/New_York
END:VTIMEZONE
END:VCALENDAR
