BEGIN:VCALENDAR
PRODID:georgiansfirst.georgia.gov
VERSION:2.0
CALSCALE:GREGORIAN
BEGIN:VEVENT
UID:4e8d4dc6ce3d9bb3063f65f724bd49d0
DTSTAMP:20260424T205719Z
SUMMARY:Dougherty County Rotary Club Meeting
URL:https://georgiansfirst.georgia.gov/events/2020-02-25/dougherty-county-r
 otary-club-meeting
DTSTART;VALUE=DATE:20200225
DTEND;VALUE=DATE:20200226
LOCATION:3800 Old Dawson Road  Albany\, GA 31721 US
X-LIC-LOCATION:America/New_York
X-WR-TIMEZONE:America/New_York
END:VEVENT
BEGIN:VTIMEZONE
TZID:America/New_York
END:VTIMEZONE
END:VCALENDAR
