BEGIN:VCALENDAR
PRODID:georgiansfirst.georgia.gov
VERSION:2.0
CALSCALE:GREGORIAN
BEGIN:VEVENT
UID:0baed6683c4838d312a6320691549e98
DTSTAMP:20260424T222257Z
SUMMARY:Small Business Symposium
DESCRIPTION:With the theme\, Growing Small Business in Georgia\, the event 
 offers a unique opportunity for small businesses\, providing direct access
  to State and local officials\, small business development partners and po
 tential contracting partners. The symposium also will offer workshops\, re
 sources and programs designed specifically to help small businesses thrive
  in Georgia!  A major goal of the symposium is to encourage relationship-
 building that leads to small businesses competing for and doing business w
 ith the State of Georgia.\n\nRegistration for this inaugural event is acce
 ssible on the DOAS website at http://doas.ga.gov/state-purchasing/small-bu
 siness-symposium.  Here\, you will find detailed information about the sy
 mposium agenda and so much more.\n\nIf you have any questions about the ev
 ent or receive inquiries from small businesses\, please feel free to conta
 ct Josh Borden\, SPD Operations Manager at josh.borden@doas.ga.gov or 404-
 656-5340.\n\nThank you\, and we look forward to you joining us and sharing
  information with small businesses.
URL:https://georgiansfirst.georgia.gov/events/2020-02-12/small-business-sym
 posium
DTSTART;VALUE=DATE:20200212
DTEND;VALUE=DATE:20200213
LOCATION:560 Pinehill Road  Dublin\, GA 31021 US
X-LIC-LOCATION:America/New_York
X-WR-TIMEZONE:America/New_York
END:VEVENT
BEGIN:VTIMEZONE
TZID:America/New_York
END:VTIMEZONE
END:VCALENDAR
