BEGIN:VCALENDAR
PRODID:georgiansfirst.georgia.gov
VERSION:2.0
CALSCALE:GREGORIAN
BEGIN:VEVENT
UID:2870e2f8117d5b6a8685fdb30d2766c3
DTSTAMP:20260424T210207Z
SUMMARY:Forsyth County Chamber Small Business Roundtable
URL:https://georgiansfirst.georgia.gov/events/2020-01-30/forsyth-county-cha
 mber-small-business-roundtable
DTSTART;VALUE=DATE:20200130
DTEND;VALUE=DATE:20200131
LOCATION:5000 Davis Love Drive  Cumming\, GA 30041 US
X-LIC-LOCATION:America/New_York
X-WR-TIMEZONE:America/New_York
END:VEVENT
BEGIN:VTIMEZONE
TZID:America/New_York
END:VTIMEZONE
END:VCALENDAR
