BEGIN:VCALENDAR
PRODID:georgiansfirst.georgia.gov
VERSION:2.0
CALSCALE:GREGORIAN
BEGIN:VEVENT
UID:3029be2ef77061ae45c9da497e0ece99
DTSTAMP:20260424T210207Z
SUMMARY:Georgians First Commission Meeting
URL:https://georgiansfirst.georgia.gov/events/2019-12-18/georgians-first-co
 mmission-meeting
DTSTART;VALUE=DATE:20191218
DTEND;VALUE=DATE:20191219
LOCATION:741 U.S. Highway 82  Leesburg\, GA 31763 US
X-LIC-LOCATION:America/New_York
X-WR-TIMEZONE:America/New_York
END:VEVENT
BEGIN:VTIMEZONE
TZID:America/New_York
END:VTIMEZONE
END:VCALENDAR
