BEGIN:VCALENDAR
PRODID:georgiansfirst.georgia.gov
VERSION:2.0
CALSCALE:GREGORIAN
BEGIN:VEVENT
UID:e8f1b316e62f794c756f44c3f137b6f9
DTSTAMP:20260424T210249Z
SUMMARY:Georgia Department of Labor Regional Workshop - Region 8
URL:https://georgiansfirst.georgia.gov/events/2019-11-06/georgia-department
 -labor-regional-workshop-region-8
DTSTART;VALUE=DATE:20191106
DTEND;VALUE=DATE:20191107
LOCATION:402 N Midway Rd.  Cordele\, GA 31015 US
X-LIC-LOCATION:America/New_York
X-WR-TIMEZONE:America/New_York
END:VEVENT
BEGIN:VTIMEZONE
TZID:America/New_York
END:VTIMEZONE
END:VCALENDAR
