BEGIN:VCALENDAR
PRODID:georgiansfirst.georgia.gov
VERSION:2.0
CALSCALE:GREGORIAN
BEGIN:VEVENT
UID:62e29b557ba198b44d88d781fe7a2472
DTSTAMP:20260424T222308Z
SUMMARY:Georgia Department of Labor Regional Workshop - Region 12
URL:https://georgiansfirst.georgia.gov/events/2019-10-30/georgia-department
 -labor-regional-workshop-region-12
DTSTART;VALUE=DATE:20191030
DTEND;VALUE=DATE:20191031
LOCATION:1 College Drive  Brunswick\, GA 31520 US
X-LIC-LOCATION:America/New_York
X-WR-TIMEZONE:America/New_York
END:VEVENT
BEGIN:VTIMEZONE
TZID:America/New_York
END:VTIMEZONE
END:VCALENDAR
