BEGIN:VCALENDAR
PRODID:georgiansfirst.georgia.gov
VERSION:2.0
CALSCALE:GREGORIAN
BEGIN:VEVENT
UID:302d099e17baddc31c87f87e90852940
DTSTAMP:20260424T222258Z
SUMMARY:Georgia Department of Labor Regional Workshop - Region 6
URL:https://georgiansfirst.georgia.gov/events/2019-10-23/georgia-department
 -labor-regional-workshop-region-6
DTSTART;VALUE=DATE:20191023
DTEND;VALUE=DATE:20191024
LOCATION:1780 Anthony Rd.  Macon\, GA 31204 US
X-LIC-LOCATION:America/New_York
X-WR-TIMEZONE:America/New_York
END:VEVENT
BEGIN:VTIMEZONE
TZID:America/New_York
END:VTIMEZONE
END:VCALENDAR
