BEGIN:VCALENDAR
PRODID:georgiansfirst.georgia.gov
VERSION:2.0
CALSCALE:GREGORIAN
BEGIN:VEVENT
UID:6597151d9557ebe0e2a181d4c3197448
DTSTAMP:20260424T204237Z
SUMMARY:Georgia Department of Labor Regional Workshop - Region 11
URL:https://georgiansfirst.georgia.gov/events/2019-10-09/georgia-department
 -labor-regional-workshop-region-11
DTSTART;VALUE=DATE:20191009
DTEND;VALUE=DATE:20191010
LOCATION:4089 Val Tech Rd.  Valdosta\, GA 31602 US
X-LIC-LOCATION:America/New_York
X-WR-TIMEZONE:America/New_York
END:VEVENT
BEGIN:VTIMEZONE
TZID:America/New_York
END:VTIMEZONE
END:VCALENDAR
